BEGIN:VCALENDAR
VERSION:2.0
CALSCALE:GREGORIAN
PRODID:-//Diputació de Barcelona//DibaCMS//EN
BEGIN:VEVENT
UID:7517
DTSTAMP:20260424T010630
DTSTART:20250518T120000
DTEND:20250518T140000
SUMMARY:Inauguració de l'exposició "Menjar de pastors i cuina del xai" 
LOCATION:Centre d'estudis i recursos de la transhumància de Lluçà - 
C.Major, 62 - 
Santa Eulàlia de Puig-oriol 
METHOD:PUBLISH
X-WR-CALNAME:llusa@lluca.cat
X-WR-TIMEZONE:Europe/Madrid
DESCRIPTION:
URI:https://www.lluca.cat/actualitat/agenda/inauguracio-de-lexposicio-menjar-de-pastors-i-cuina-del-xai-.html
CLASS:PUBLIC
END:VEVENT
END:VCALENDAR
